BEGIN:VCALENDAR
VERSION:2.0
PRODID:-//Houston Cigar Week - ECPv6.15.20//NONSGML v1.0//EN
CALSCALE:GREGORIAN
METHOD:PUBLISH
X-WR-CALNAME:Houston Cigar Week
X-ORIGINAL-URL:https://www.houstoncigarweek.com
X-WR-CALDESC:Events for Houston Cigar Week
REFRESH-INTERVAL;VALUE=DURATION:PT1H
X-Robots-Tag:noindex
X-PUBLISHED-TTL:PT1H
BEGIN:VTIMEZONE
TZID:UTC
BEGIN:STANDARD
TZOFFSETFROM:+0000
TZOFFSETTO:+0000
TZNAME:UTC
DTSTART:20250101T000000
END:STANDARD
END:VTIMEZONE
BEGIN:VEVENT
DTSTART;TZID=UTC:20260519T160000
DTEND;TZID=UTC:20260524T233000
DTSTAMP:20260424T124659
CREATED:20250708T184024Z
LAST-MODIFIED:20260423T004058Z
UID:2485-1779206400-1779665400@www.houstoncigarweek.com
SUMMARY:Ticket
DESCRIPTION:Secure your spot at HCW 2026—May 19–24—for an unforgettable week of cigars\, culture\, cocktails\, and live entertainment in the heart of Houston!
URL:https://www.houstoncigarweek.com/event/houston-cigar-week-2026/
ORGANIZER;CN="HCW":MAILTO:info@houstoncigarweek.com
END:VEVENT
END:VCALENDAR